BEGIN:VCALENDAR
VERSION:2.0
PRODID:-//ChamberMaster//Event Calendar 2.0//EN
METHOD:PUBLISH
X-PUBLISHED-TTL:P3D
REFRESH-INTERVAL:P3D
CALSCALE:GREGORIAN
BEGIN:VEVENT
DTSTART:20230921T213000Z
DTEND:20230921T223000Z
X-MICROSOFT-CDO-ALLDAYEVENT:FALSE
SUMMARY:Business After Hours | 25th Anniversary of 303 Associates
DESCRIPTION:Come celebrate the 25th Anniversary of 303 Associates! Great food\, networking\, and entertainment with your all-inclusive ticket!
X-ALT-DESC;FMTTYPE=text/html:Come celebrate the 25th Anniversary of 303 Associates! Great food\, networking\, and entertainment with your all-inclusive ticket!
LOCATION:Tabby Place 609 Port Republic St.
UID:e.1212.13423
SEQUENCE:3
DTSTAMP:20260424T064858Z
URL:https://business.beaufortchamber.org/events/details/business-after-hours-25th-anniversary-of-303-associates-13423
END:VEVENT

END:VCALENDAR
