BEGIN:VCALENDAR
VERSION:2.0
PRODID:-//ChamberMaster//Event Calendar 2.0//EN
METHOD:PUBLISH
X-PUBLISHED-TTL:P3D
REFRESH-INTERVAL:P3D
CALSCALE:GREGORIAN
BEGIN:VEVENT
DTSTART:20221028T213000Z
DTEND:20221028T230000Z
X-MICROSOFT-CDO-ALLDAYEVENT:FALSE
SUMMARY:Business After Hours at Fripp Island
DESCRIPTION:Join us for fun\, productive networking at beautiful Fripp Island -- a private resort!\n\nPlenty of food\, drink\, and entertainment will make it a special evening for Chamber members. \n\nCheck out the flyer for a discount if you'd like to make it into a weekend getaway.\n\n\n\nRegistration required for gate access. Tickets prices:\n\nMembers: $10\n\nFuture Members:  $20
X-ALT-DESC;FMTTYPE=text/html:Join us for fun\, productive networking at beautiful Fripp Island -- a private resort!<br />\nPlenty of food\, drink\, and entertainment will make it a special evening for Chamber members.&nbsp\;<br />\nCheck out the flyer for a discount if you&#39\;d like to make it into a weekend getaway.<br />\n<br />\nRegistration required for gate access. Tickets prices:<br />\nMembers: $10<br />\nFuture Members:&nbsp\; $20
LOCATION:THE SANDBAR Fripp Island Golf & Beach Resort 300 Tarpon Boulevard\, Fripp Island
UID:e.1212.13312
SEQUENCE:3
DTSTAMP:20260424T232643Z
URL:https://business.beaufortchamber.org/events/details/business-after-hours-at-fripp-island-13312
END:VEVENT

END:VCALENDAR
