BEGIN:VCALENDAR
VERSION:2.0
PRODID:-//ChamberMaster//Event Calendar 2.0//EN
METHOD:PUBLISH
X-PUBLISHED-TTL:P3D
REFRESH-INTERVAL:P3D
CALSCALE:GREGORIAN
BEGIN:VEVENT
DTSTART;VALUE=DATE:20080911
DTEND;VALUE=DATE:20080912
TRANSP:TRANSPARENT
X-MICROSOFT-CDO-ALLDAYEVENT:TRUE
SUMMARY:Business After Hours - Beaufort Holiday Inn Hotel & Suites
DESCRIPTION:Please RSVP by Tuesday\, September 9 at 5 p.m.  Members $10\, Non-members $20
X-ALT-DESC;FMTTYPE=text/html:Please RSVP by Tuesday\, September 9 at 5 p.m.  <i>Members $10\, Non-members $20</i>
LOCATION:
UID:e.1212.1876
SEQUENCE:3
DTSTAMP:20260425T122731Z
URL:https://business.beaufortchamber.org/events/details/business-after-hours-beaufort-holiday-inn-hotel-suites-09-11-2008-1876
END:VEVENT

END:VCALENDAR
