BEGIN:VCALENDAR
VERSION:2.0
PRODID:-//ChamberMaster//Event Calendar 2.0//EN
METHOD:PUBLISH
X-PUBLISHED-TTL:P3D
REFRESH-INTERVAL:P3D
CALSCALE:GREGORIAN
BEGIN:VEVENT
DTSTART;VALUE=DATE:20080110
DTEND;VALUE=DATE:20080111
TRANSP:TRANSPARENT
X-MICROSOFT-CDO-ALLDAYEVENT:TRUE
SUMMARY:Business After Hours - Coastal Contractors & Realty
DESCRIPTION:Please RSVP by Tuesday\, January 8th at 5 p.m.  Members $7\, Non-members $20
X-ALT-DESC;FMTTYPE=text/html:Please RSVP by Tuesday\, January 8th at 5 p.m.  <i>Members $7\, Non-members $20</i>
LOCATION:Beaufort
UID:e.1212.1866
SEQUENCE:3
DTSTAMP:20260424T234628Z
URL:https://business.beaufortchamber.org/events/details/business-after-hours-coastal-contractors-realty-01-10-2008-1866
END:VEVENT

END:VCALENDAR
