BEGIN:VCALENDAR
VERSION:2.0
PRODID:-//ChamberMaster//Event Calendar 2.0//EN
METHOD:PUBLISH
X-PUBLISHED-TTL:P3D
REFRESH-INTERVAL:P3D
CALSCALE:GREGORIAN
BEGIN:VEVENT
DTSTART;VALUE=DATE:20080313
DTEND;VALUE=DATE:20080314
TRANSP:TRANSPARENT
X-MICROSOFT-CDO-ALLDAYEVENT:TRUE
SUMMARY:Business After Hours - Comfort Suites
DESCRIPTION:Please RSVP by Tuesday\, March 11 at 5 p.m.  Members $7\, Non-members $20
X-ALT-DESC;FMTTYPE=text/html:Please RSVP by Tuesday\, March 11 at 5 p.m.  <i>Members $7\, Non-members $20</i>
LOCATION:Beaufort
UID:e.1212.1869
SEQUENCE:3
DTSTAMP:20260425T024654Z
URL:https://business.beaufortchamber.org/events/details/business-after-hours-comfort-suites-03-13-2008-1869
END:VEVENT

END:VCALENDAR
