BEGIN:VCALENDAR
VERSION:2.0
PRODID:-//ChamberMaster//Event Calendar 2.0//EN
METHOD:PUBLISH
X-PUBLISHED-TTL:P3D
REFRESH-INTERVAL:P3D
CALSCALE:GREGORIAN
BEGIN:VEVENT
DTSTART;VALUE=DATE:20081113
DTEND;VALUE=DATE:20081114
TRANSP:TRANSPARENT
X-MICROSOFT-CDO-ALLDAYEVENT:TRUE
SUMMARY:Business After Hours - ERA Evergreen Real Estate Company
DESCRIPTION:Please RSVP by Tuesday\, November 11 at 5 p.m.  Members $10   Non-members $20
X-ALT-DESC;FMTTYPE=text/html:Please RSVP by Tuesday\, November 11 at 5 p.m.  Members $10   Non-members $20
LOCATION:Beaufort Historic District
UID:e.1212.1878
SEQUENCE:3
DTSTAMP:20260425T150743Z
URL:https://business.beaufortchamber.org/events/details/business-after-hours-era-evergreen-real-estate-company-11-13-2008-1878
END:VEVENT

END:VCALENDAR
