BEGIN:VCALENDAR
VERSION:2.0
PRODID:-//ChamberMaster//Event Calendar 2.0//EN
METHOD:PUBLISH
X-PUBLISHED-TTL:P3D
REFRESH-INTERVAL:P3D
CALSCALE:GREGORIAN
BEGIN:VEVENT
DTSTART;VALUE=DATE:20070712
DTEND;VALUE=DATE:20070713
TRANSP:TRANSPARENT
X-MICROSOFT-CDO-ALLDAYEVENT:TRUE
SUMMARY:Business After Hours - First Citizens Bank
DESCRIPTION:RSVP by Tuesday\, July 10 to Blakely Williams at 843.986.5400 x 27 or via email at memberops@beaufortsc.org.
X-ALT-DESC;FMTTYPE=text/html:RSVP by Tuesday\, July 10 to Blakely Williams at 843.986.5400 x 27 or via email at memberops@beaufortsc.org.
LOCATION:
UID:e.1212.1485
SEQUENCE:3
DTSTAMP:20260424T160610Z
URL:https://business.beaufortchamber.org/events/details/business-after-hours-first-citizens-bank-07-12-2007-1485
END:VEVENT

END:VCALENDAR
