BEGIN:VCALENDAR
VERSION:2.0
PRODID:-//ChamberMaster//Event Calendar 2.0//EN
METHOD:PUBLISH
X-PUBLISHED-TTL:P3D
REFRESH-INTERVAL:P3D
CALSCALE:GREGORIAN
BEGIN:VEVENT
DTSTART;VALUE=DATE:20071213
DTEND;VALUE=DATE:20071214
TRANSP:TRANSPARENT
X-MICROSOFT-CDO-ALLDAYEVENT:TRUE
SUMMARY:Business After Hours - Hargray
DESCRIPTION:Contact Blakely Williams at 843.986.5400\, ext. 27 or via email at memberops@beaufortsc.org for more info on the event.  Please RSVP by Tuesday\, December 11 at 5 p.m.  Members $7\, Non-members $20
X-ALT-DESC;FMTTYPE=text/html:Contact Blakely Williams at 843.986.5400\, ext. 27 or via email at memberops@beaufortsc.org for more info on the event.  Please RSVP by Tuesday\, December 11 at 5 p.m.  <i>Members $7\, Non-members $20</i>
LOCATION:Beaufort
UID:e.1212.1790
SEQUENCE:3
DTSTAMP:20260424T221442Z
URL:https://business.beaufortchamber.org/events/details/business-after-hours-hargray-12-13-2007-1790
END:VEVENT

END:VCALENDAR
