BEGIN:VCALENDAR
VERSION:2.0
PRODID:-//ChamberMaster//Event Calendar 2.0//EN
METHOD:PUBLISH
X-PUBLISHED-TTL:P3D
REFRESH-INTERVAL:P3D
CALSCALE:GREGORIAN
BEGIN:VEVENT
DTSTART;VALUE=DATE:20080221
DTEND;VALUE=DATE:20080222
TRANSP:TRANSPARENT
X-MICROSOFT-CDO-ALLDAYEVENT:TRUE
SUMMARY:Business After Hours - Hilton Garden Inn
DESCRIPTION:Please RSVP by Tuesday\, February 12 at 5 p.m.   Members $7\, Non-members $20
X-ALT-DESC;FMTTYPE=text/html:Please RSVP by Tuesday\, February 12 at 5 p.m.   <i>Members $7\, Non-members $20</i>
LOCATION:Beaufort
UID:e.1212.1868
SEQUENCE:3
DTSTAMP:20260425T010445Z
URL:https://business.beaufortchamber.org/events/details/business-after-hours-hilton-garden-inn-02-21-2008-1868
END:VEVENT

END:VCALENDAR
