BEGIN:VCALENDAR
VERSION:2.0
PRODID:-//ChamberMaster//Event Calendar 2.0//EN
METHOD:PUBLISH
X-PUBLISHED-TTL:P3D
REFRESH-INTERVAL:P3D
CALSCALE:GREGORIAN
BEGIN:VEVENT
DTSTART:20230615T213000Z
DTEND:20230615T233000Z
X-MICROSOFT-CDO-ALLDAYEVENT:FALSE
SUMMARY:Business After Hours hosted by Beaufort Digital Corridor
DESCRIPTION:Sign up for the June Business After Hours at the Beaufort Digital Corridor in downtown! This event coincides with the BDC's TechConnect night\, offering lots of yummy food and drinks. Free headshots will be provided by Tim Nelson of One Eleven Photo between 5:30 - 6:30pm.
X-ALT-DESC;FMTTYPE=text/html:Sign up for the June Business After Hours at the Beaufort Digital Corridor in downtown! This event coincides with the BDC&#39\;s TechConnect night\, offering lots of yummy food and drinks. Free headshots will be provided by Tim Nelson of <a href="https://www.oneelevenphoto.com/">One Eleven Photo</a> between 5:30 - 6:30pm.&nbsp\;<br />\n&nbsp\;
LOCATION:500 Carteret Street
UID:e.1212.13395
SEQUENCE:3
DTSTAMP:20260424T115029Z
URL:https://business.beaufortchamber.org/events/details/business-after-hours-hosted-by-beaufort-digital-corridor-13395
END:VEVENT

END:VCALENDAR
