BEGIN:VCALENDAR
VERSION:2.0
PRODID:-//ChamberMaster//Event Calendar 2.0//EN
METHOD:PUBLISH
X-PUBLISHED-TTL:P3D
REFRESH-INTERVAL:P3D
CALSCALE:GREGORIAN
BEGIN:VEVENT
DTSTART:20230427T210000Z
DTEND:20230427T223000Z
X-MICROSOFT-CDO-ALLDAYEVENT:FALSE
SUMMARY:Business After Hours hosted by Beaufort Executive Airport
DESCRIPTION:Come check out the newest Airport renovations and enjoy music\, refreshments\, and networking as we cut the ribbon and celebrate Aviation Week at the April Business After Hours!
X-ALT-DESC;FMTTYPE=text/html:Come check out the newest Airport renovations and enjoy music\, refreshments\, and networking as we cut the ribbon and celebrate Aviation Week at the April Business After Hours!
LOCATION:Beaufort Executive Airport aka Frogmore Intranational
UID:e.1212.13382
SEQUENCE:3
DTSTAMP:20260424T152938Z
URL:https://business.beaufortchamber.org/events/details/business-after-hours-hosted-by-beaufort-executive-airport-13382
END:VEVENT

END:VCALENDAR
