BEGIN:VCALENDAR
VERSION:2.0
PRODID:-//ChamberMaster//Event Calendar 2.0//EN
METHOD:PUBLISH
X-PUBLISHED-TTL:P3D
REFRESH-INTERVAL:P3D
CALSCALE:GREGORIAN
BEGIN:VEVENT
DTSTART:20231026T210000Z
DTEND:20231026T223000Z
X-MICROSOFT-CDO-ALLDAYEVENT:FALSE
SUMMARY:Business After Hours hosted by First Federal Bank
DESCRIPTION:Enjoy networking over cocktails at the October Business After Hours hosted by First Federal Bank
X-ALT-DESC;FMTTYPE=text/html:Enjoy networking over cocktails at the October Business After Hours hosted by First Federal Bank
LOCATION:36 Sea Island Pkwy
UID:e.1212.13425
SEQUENCE:3
DTSTAMP:20260424T051221Z
URL:https://business.beaufortchamber.org/events/details/business-after-hours-hosted-by-first-federal-bank-13425
END:VEVENT

END:VCALENDAR
