BEGIN:VCALENDAR
VERSION:2.0
PRODID:-//ChamberMaster//Event Calendar 2.0//EN
METHOD:PUBLISH
X-PUBLISHED-TTL:P3D
REFRESH-INTERVAL:P3D
CALSCALE:GREGORIAN
BEGIN:VEVENT
DTSTART:20230119T220000Z
DTEND:20230119T233000Z
X-MICROSOFT-CDO-ALLDAYEVENT:FALSE
SUMMARY:Business After Hours hosted by Hospice Care of the Lowcountry
DESCRIPTION:Kick off 2023 with a fun Business After Hours hosted by Hospice Care of the Lowcountry to celebrate their 40th anniversary of being in business! Join fellow Chamber members at the beautiful\, downtown Rhett House Inn for drinks\, apps\, networking\, and door prizes.
X-ALT-DESC;FMTTYPE=text/html:Kick off 2023 with a fun Business After Hours hosted by Hospice Care of the Lowcountry to celebrate their 40th anniversary of being in business! Join fellow Chamber members at the beautiful\, downtown Rhett House Inn for drinks\, apps\, networking\, and door prizes.
LOCATION:1009 Craven Street Rhett House Inn
UID:e.1212.13336
SEQUENCE:3
DTSTAMP:20260424T192410Z
URL:https://business.beaufortchamber.org/events/details/business-after-hours-hosted-by-hospice-care-of-the-lowcountry-13336
END:VEVENT

END:VCALENDAR
