BEGIN:VCALENDAR
VERSION:2.0
PRODID:-//ChamberMaster//Event Calendar 2.0//EN
METHOD:PUBLISH
X-PUBLISHED-TTL:P3D
REFRESH-INTERVAL:P3D
CALSCALE:GREGORIAN
BEGIN:VEVENT
DTSTART:20221122T223000Z
DTEND:20221123T000000Z
X-MICROSOFT-CDO-ALLDAYEVENT:FALSE
SUMMARY:Business After Hours hosted By Marker 244 and Safe Harbor Port Royal Landing
DESCRIPTION:Join us for a Pre-Thanksgiving "Business After Hours" at Safe Harbor Port Royal Landing and Marker 244!\n\nGreat food\, festive drinks\, entertainment and networking with colleagues before the Thanksgiving holiday!\n\nRegister online to attend.
X-ALT-DESC;FMTTYPE=text/html:Join us for a Pre-Thanksgiving &quot\;Business After Hours&quot\; at Safe Harbor Port Royal Landing and Marker 244!<br />\nGreat food\, festive drinks\, entertainment and networking with colleagues before the Thanksgiving holiday!<br />\nRegister online to attend.
LOCATION:1 Port Royal Landing Drive
UID:e.1212.13326
SEQUENCE:3
DTSTAMP:20260424T220542Z
URL:https://business.beaufortchamber.org/events/details/business-after-hours-hosted-by-marker-244-and-safe-harbor-port-royal-landing-13326
END:VEVENT

END:VCALENDAR
