BEGIN:VCALENDAR
VERSION:2.0
PRODID:-//ChamberMaster//Event Calendar 2.0//EN
METHOD:PUBLISH
X-PUBLISHED-TTL:P3D
REFRESH-INTERVAL:P3D
CALSCALE:GREGORIAN
BEGIN:VEVENT
DTSTART:20230209T220000Z
DTEND:20230209T233000Z
X-MICROSOFT-CDO-ALLDAYEVENT:FALSE
SUMMARY:Business After Hours hosted by SK & Assoc.
DESCRIPTION:Join us for a Valentine-themed Business After Hours networking event in Port Royal at the studio of SK Signs\, Design\, and Marketing. Great connections\, refreshments and host business to learn all about!
X-ALT-DESC;FMTTYPE=text/html:Join us for a Valentine-themed Business After Hours networking event in Port Royal at the studio of SK Signs\, Design\, and Marketing. Great connections\, refreshments and host business to learn all about!
LOCATION:1002 8th Street Port Royal
UID:e.1212.13350
SEQUENCE:3
DTSTAMP:20260424T192235Z
URL:https://business.beaufortchamber.org/events/details/business-after-hours-hosted-by-sk-assoc-13350
END:VEVENT

END:VCALENDAR
