BEGIN:VCALENDAR
VERSION:2.0
PRODID:-//ChamberMaster//Event Calendar 2.0//EN
METHOD:PUBLISH
X-PUBLISHED-TTL:P3D
REFRESH-INTERVAL:P3D
CALSCALE:GREGORIAN
BEGIN:VEVENT
DTSTART:20230824T210000Z
DTEND:20230824T223000Z
X-MICROSOFT-CDO-ALLDAYEVENT:FALSE
SUMMARY:Business After Hours hosted by Wet Willie's
DESCRIPTION:Join us for the August Business After Hours event -- beat the heat with a free daquiri from Wet Willie's\, along with light bites. Come network with fellow Chamber members!
X-ALT-DESC;FMTTYPE=text/html:Join us for the August Business After Hours event -- beat the heat with a free daquiri from Wet Willie&#39\;s\, along with light bites. Come network with fellow Chamber members!
LOCATION:Wet Willie's of Beaufort 2127 Boundary Street\, Suite 17
UID:e.1212.13412
SEQUENCE:3
DTSTAMP:20260424T084916Z
URL:https://business.beaufortchamber.org/events/details/business-after-hours-hosted-by-wet-willie-s-13412
END:VEVENT

END:VCALENDAR
