BEGIN:VCALENDAR
VERSION:2.0
PRODID:-//ChamberMaster//Event Calendar 2.0//EN
METHOD:PUBLISH
X-PUBLISHED-TTL:P3D
REFRESH-INTERVAL:P3D
CALSCALE:GREGORIAN
BEGIN:VEVENT
DTSTART;VALUE=DATE:20080710
DTEND;VALUE=DATE:20080711
TRANSP:TRANSPARENT
X-MICROSOFT-CDO-ALLDAYEVENT:TRUE
SUMMARY:Business After Hours - Overlook at Battery Creek/PEC Development Group\, Inc.
DESCRIPTION:Please RSVP by Tuesday\, July 8 at 5 p.m.  Members $10\, Non-members $20.  \n\n Join us from 5:30 - 7:00 p.m.
X-ALT-DESC;FMTTYPE=text/html:Please RSVP by Tuesday\, July 8 at 5 p.m.  Members $10\, Non-members $20.  <BR><BR> Join us from 5:30 - 7:00 p.m.
LOCATION:Beaufort
UID:e.1212.1873
SEQUENCE:3
DTSTAMP:20260425T105612Z
URL:https://business.beaufortchamber.org/events/details/business-after-hours-overlook-at-battery-creek-pec-development-group-inc-07-10-2008-1873
END:VEVENT

END:VCALENDAR
