BEGIN:VCALENDAR
VERSION:2.0
PRODID:-//ChamberMaster//Event Calendar 2.0//EN
METHOD:PUBLISH
X-PUBLISHED-TTL:P3D
REFRESH-INTERVAL:P3D
CALSCALE:GREGORIAN
BEGIN:VEVENT
DTSTART;VALUE=DATE:20081009
DTEND;VALUE=DATE:20081010
TRANSP:TRANSPARENT
X-MICROSOFT-CDO-ALLDAYEVENT:TRUE
SUMMARY:Business After Hours - Palmetto State Bank
DESCRIPTION:Please RSVP by Tuesday\, October 7 at 5 p.m.  Members $10\, Non-members $20
X-ALT-DESC;FMTTYPE=text/html:Please RSVP by Tuesday\, October 7 at 5 p.m.  <i>Members $10\, Non-members $20</i>
LOCATION:Lady's Island
UID:e.1212.1877
SEQUENCE:3
DTSTAMP:20260425T140059Z
URL:https://business.beaufortchamber.org/events/details/business-after-hours-palmetto-state-bank-10-09-2008-1877
END:VEVENT

END:VCALENDAR
