BEGIN:VCALENDAR
VERSION:2.0
PRODID:-//ChamberMaster//Event Calendar 2.0//EN
METHOD:PUBLISH
X-PUBLISHED-TTL:P3D
REFRESH-INTERVAL:P3D
CALSCALE:GREGORIAN
BEGIN:VEVENT
DTSTART;VALUE=DATE:20080814
DTEND;VALUE=DATE:20080815
TRANSP:TRANSPARENT
X-MICROSOFT-CDO-ALLDAYEVENT:TRUE
SUMMARY:Business After Hours - Settings of Mackay Point
DESCRIPTION:RSVP by Tuesday\, June 12 to Blakely Williams\, memberops@beaufortsc.org or (843) 986-5400\, x27
X-ALT-DESC;FMTTYPE=text/html:RSVP by Tuesday\, June 12 to Blakely Williams\, memberops@beaufortsc.org or (843) 986-5400\, x27
LOCATION:
UID:e.1212.2452
SEQUENCE:3
DTSTAMP:20260425T105751Z
URL:https://business.beaufortchamber.org/events/details/business-after-hours-settings-of-mackay-point-08-14-2008-2452
END:VEVENT

END:VCALENDAR
