BEGIN:VCALENDAR
VERSION:2.0
PRODID:-//ChamberMaster//Event Calendar 2.0//EN
METHOD:PUBLISH
X-PUBLISHED-TTL:P3D
REFRESH-INTERVAL:P3D
CALSCALE:GREGORIAN
BEGIN:VEVENT
DTSTART;VALUE=DATE:20080814
DTEND;VALUE=DATE:20080815
TRANSP:TRANSPARENT
X-MICROSOFT-CDO-ALLDAYEVENT:TRUE
SUMMARY:Business After Hours - The Settings of Mackay Point
DESCRIPTION:Please RSVP by Tuesday\, August 12 at 5 p.m.  Members $10\, Non-members $20
X-ALT-DESC;FMTTYPE=text/html:Please RSVP by Tuesday\, August 12 at 5 p.m.  <i>Members $10\, Non-members $20</i>
LOCATION:Yemassee
UID:e.1212.1875
SEQUENCE:3
DTSTAMP:20260425T122521Z
URL:https://business.beaufortchamber.org/events/details/business-after-hours-the-settings-of-mackay-point-08-14-2008-1875
END:VEVENT

END:VCALENDAR
