BEGIN:VCALENDAR
VERSION:2.0
PRODID:-//ChamberMaster//Event Calendar 2.0//EN
METHOD:PUBLISH
X-PUBLISHED-TTL:P3D
REFRESH-INTERVAL:P3D
CALSCALE:GREGORIAN
BEGIN:VEVENT
DTSTART;VALUE=DATE:20071213
DTEND;VALUE=DATE:20071214
TRANSP:TRANSPARENT
X-MICROSOFT-CDO-ALLDAYEVENT:TRUE
SUMMARY:Caffino Grand Opening
DESCRIPTION:Please RSVP
X-ALT-DESC;FMTTYPE=text/html:Please RSVP
LOCATION:Beaufort
UID:e.1212.2053
SEQUENCE:3
DTSTAMP:20260424T221442Z
URL:https://business.beaufortchamber.org/events/details/caffino-grand-opening-12-13-2007-2053
END:VEVENT

END:VCALENDAR
