BEGIN:VCALENDAR
VERSION:2.0
PRODID:-//ChamberMaster//Event Calendar 2.0//EN
METHOD:PUBLISH
X-PUBLISHED-TTL:P3D
REFRESH-INTERVAL:P3D
CALSCALE:GREGORIAN
BEGIN:VEVENT
DTSTART:20260115T220000Z
DTEND:20260115T233000Z
X-MICROSOFT-CDO-ALLDAYEVENT:FALSE
SUMMARY:CANCELLED: Business After Hours for January 2026
DESCRIPTION:
X-ALT-DESC;FMTTYPE=text/html:
LOCATION:
UID:e.1212.14967
SEQUENCE:3
DTSTAMP:20260422T115325Z
URL:https://business.beaufortchamber.org/events/details/cancelled-business-after-hours-for-january-2026-14967
END:VEVENT

END:VCALENDAR
