BEGIN:VCALENDAR
VERSION:2.0
PRODID:-//ChamberMaster//Event Calendar 2.0//EN
METHOD:PUBLISH
X-PUBLISHED-TTL:P3D
REFRESH-INTERVAL:P3D
CALSCALE:GREGORIAN
BEGIN:VEVENT
DTSTART;VALUE=DATE:20081030
DTEND;VALUE=DATE:20081031
TRANSP:TRANSPARENT
X-MICROSOFT-CDO-ALLDAYEVENT:TRUE
SUMMARY:Candidate's Forum
DESCRIPTION:Local forum open to the public with Moderator\, Rick Forschner\, talk show host with WAGP.     U.S. Senate Seat 46\, House Seat 121 and House Seat 124 at 6:00pm.     Beaufort County District 9 at 6:45pm.      Beaufort City Council Seats at 7:15pm.       Beaufort City Council Mayoral Race at 8:00pm.
X-ALT-DESC;FMTTYPE=text/html:Local forum open to the public with Moderator\, Rick Forschner\, talk show host with WAGP.     U.S. Senate Seat 46\, House Seat 121 and House Seat 124 at 6:00pm.     Beaufort County District 9 at 6:45pm.      Beaufort City Council Seats at 7:15pm.       Beaufort City Council Mayoral Race at 8:00pm.
LOCATION:
UID:e.1212.2768
SEQUENCE:3
DTSTAMP:20260425T134227Z
URL:https://business.beaufortchamber.org/events/details/candidate-s-forum-10-30-2008-2768
END:VEVENT

END:VCALENDAR
