BEGIN:VCALENDAR
VERSION:2.0
PRODID:-//ChamberMaster//Event Calendar 2.0//EN
METHOD:PUBLISH
X-PUBLISHED-TTL:P3D
REFRESH-INTERVAL:P3D
CALSCALE:GREGORIAN
BEGIN:VEVENT
DTSTART;VALUE=DATE:20080716
DTEND;VALUE=DATE:20080717
TRANSP:TRANSPARENT
X-MICROSOFT-CDO-ALLDAYEVENT:TRUE
SUMMARY:CAPA Cafe
DESCRIPTION:Lunch served daily 11 a.m. - 2 p.m. by CAPA volunteers.\n\nShrimp\, chicken\, tuna salad\, and a quiche of the day\n\nDeliveries possible for orders of $50 or more - please call in advance.\n\nJuly 16th: "to go" orders only
X-ALT-DESC;FMTTYPE=text/html:Lunch served daily 11 a.m. - 2 p.m. by CAPA volunteers.<BR><BR>Shrimp\, chicken\, tuna salad\, and a quiche of the day<BR><BR>Deliveries possible for orders of $50 or more - please call in advance.<BR><BR>July 16th: <U>"to go" orders only</U>
LOCATION:Beaufort Historic District
UID:e.1212.2534
SEQUENCE:3
DTSTAMP:20260425T105303Z
URL:https://business.beaufortchamber.org/events/details/capa-cafe-07-16-2008-2534
END:VEVENT

END:VCALENDAR
