BEGIN:VCALENDAR
VERSION:2.0
PRODID:-//ChamberMaster//Event Calendar 2.0//EN
METHOD:PUBLISH
X-PUBLISHED-TTL:P3D
REFRESH-INTERVAL:P3D
CALSCALE:GREGORIAN
BEGIN:VEVENT
DTSTART;VALUE=DATE:20080916
DTEND;VALUE=DATE:20080917
TRANSP:TRANSPARENT
X-MICROSOFT-CDO-ALLDAYEVENT:TRUE
SUMMARY:Career Exploration Day
DESCRIPTION:An opportunity for students and employers alike to meet and discuss possible internships\, part-time positions\, and prospective career placement. \n\n Please RSVP to Liz Wilson.
X-ALT-DESC;FMTTYPE=text/html:An opportunity for students and employers alike to meet and discuss possible internships\, part-time positions\, and prospective career placement. <BR><BR> Please RSVP to Liz Wilson.
LOCATION:Bluffton
UID:e.1212.2656
SEQUENCE:3
DTSTAMP:20260425T122227Z
URL:https://business.beaufortchamber.org/events/details/career-exploration-day-09-16-2008-2656
END:VEVENT

END:VCALENDAR
