BEGIN:VCALENDAR
VERSION:2.0
PRODID:-//ChamberMaster//Event Calendar 2.0//EN
METHOD:PUBLISH
X-PUBLISHED-TTL:P3D
REFRESH-INTERVAL:P3D
CALSCALE:GREGORIAN
BEGIN:VEVENT
DTSTART;VALUE=DATE:20080330
DTEND;VALUE=DATE:20080331
TRANSP:TRANSPARENT
X-MICROSOFT-CDO-ALLDAYEVENT:TRUE
SUMMARY:Carolina Spring Fling
DESCRIPTION:This inaugural event will be a Shag Dance for the benefit of CODA and CAPA charities.  Oscar Rivers\nand Company will provide the beach music.  The evening will include a complete dinner\, silent and\nlive auctions and\, of course\, dancing.    Tickets are $75 per person and may be purchased at \nRestaurant Bateaux in Port Royal (843- 379-0777) and the numbers listed below.
X-ALT-DESC;FMTTYPE=text/html:This inaugural event will be a Shag Dance for the benefit of CODA and CAPA charities.  Oscar Rivers\nand Company will provide the beach music.  The evening will include a complete dinner\, silent and\nlive auctions and\, of course\, dancing.    Tickets are $75 per person and may be purchased at \nRestaurant Bateaux in Port Royal (843- 379-0777) and the numbers listed below.
LOCATION:
UID:e.1212.2025
SEQUENCE:3
DTSTAMP:20260425T024606Z
URL:https://business.beaufortchamber.org/events/details/carolina-spring-fling-03-30-2008-2025
END:VEVENT

END:VCALENDAR
