BEGIN:VCALENDAR
VERSION:2.0
PRODID:-//ChamberMaster//Event Calendar 2.0//EN
METHOD:PUBLISH
X-PUBLISHED-TTL:P3D
REFRESH-INTERVAL:P3D
CALSCALE:GREGORIAN
BEGIN:VEVENT
DTSTART:20250329T180000Z
DTEND:20250329T190000Z
X-MICROSOFT-CDO-ALLDAYEVENT:FALSE
SUMMARY:Catawba Pottery Demonstration
DESCRIPTION:Witness the art of Catawba pottery come alive as potter Nancy White shares her skills and knowledge at the Morris Center. This demonstration will showcase the intricate and rich cultural heritage behind this traditional folk art. Observe as she shapes clay into stunning vessels\, applying techniques that have been passed down through generations of Catawba potters. This program is funded in part by the South Carolina Arts Commission\, which receives support from the National Endowment for the Arts.
X-ALT-DESC;FMTTYPE=text/html:<span style="color:rgb(34\, 34\, 34)\; font-family:adobe-jenson-pro-display\,serif\; font-size:24px">Witness the art of Catawba pottery come alive as potter Nancy White shares her skills and knowledge at the Morris Center. This demonstration will showcase the intricate and rich cultural heritage behind this traditional folk art. Observe as she shapes clay into stunning vessels\, applying techniques that have been passed down through generations of Catawba potters.&nbsp\;This program is funded in part by the South Carolina Arts Commission\, which receives support from the National Endowment for the Arts.</span>
LOCATION:Morris Center for Lowcountry Heritage
UID:e.1212.14172
SEQUENCE:3
DTSTAMP:20260423T120927Z
URL:https://business.beaufortchamber.org/events/details/catawba-pottery-demonstration-14172
END:VEVENT

END:VCALENDAR
