BEGIN:VCALENDAR
VERSION:2.0
PRODID:-//ChamberMaster//Event Calendar 2.0//EN
METHOD:PUBLISH
X-PUBLISHED-TTL:P3D
REFRESH-INTERVAL:P3D
CALSCALE:GREGORIAN
BEGIN:VEVENT
DTSTART;VALUE=DATE:20081115
DTEND;VALUE=DATE:20081116
TRANSP:TRANSPARENT
X-MICROSOFT-CDO-ALLDAYEVENT:TRUE
SUMMARY:Cheryl Mansson\, LPC ThetaHealing Event
DESCRIPTION:Free demonstration & description of  the meditational process that creates psychological\, physical and spiritual transformation.
X-ALT-DESC;FMTTYPE=text/html:Free demonstration & description of  the meditational process that creates psychological\, physical and spiritual transformation.
LOCATION:
UID:e.1212.2736
SEQUENCE:3
DTSTAMP:20260425T145716Z
URL:https://business.beaufortchamber.org/events/details/cheryl-mansson-lpc-thetahealing-event-11-15-2008-2736
END:VEVENT

END:VCALENDAR
