BEGIN:VCALENDAR
VERSION:2.0
PRODID:-//ChamberMaster//Event Calendar 2.0//EN
METHOD:PUBLISH
X-PUBLISHED-TTL:P3D
REFRESH-INTERVAL:P3D
CALSCALE:GREGORIAN
BEGIN:VEVENT
DTSTART:20221019T220000Z
DTEND:20221019T234500Z
X-MICROSOFT-CDO-ALLDAYEVENT:FALSE
SUMMARY:City & County Council Candidate Forum
DESCRIPTION:City and Council Candidate Forum\n\nModerated by Ian Scott\, Chamber President
X-ALT-DESC;FMTTYPE=text/html:City and Council Candidate Forum<br />\nModerated by Ian Scott\, Chamber President
LOCATION:Wednesday\, October 19\, 2022 USCB Center for Arts 805 Carteret Street
UID:e.1212.13317
SEQUENCE:3
DTSTAMP:20260424T232653Z
URL:https://business.beaufortchamber.org/events/details/city-county-council-candidate-forum-13317
END:VEVENT

END:VCALENDAR
