BEGIN:VCALENDAR
VERSION:2.0
PRODID:-//ChamberMaster//Event Calendar 2.0//EN
METHOD:PUBLISH
X-PUBLISHED-TTL:P3D
REFRESH-INTERVAL:P3D
CALSCALE:GREGORIAN
BEGIN:VEVENT
DTSTART:20231012T213000Z
DTEND:20231012T230000Z
X-MICROSOFT-CDO-ALLDAYEVENT:FALSE
SUMMARY:CIVITAS AWARDS RECEPTION
DESCRIPTION:Tickets are SOLD OUT.\n\nPlease contact the Chamber if you would like to join a waitlist.\n\n2023 Civitas Awards Reception
X-ALT-DESC;FMTTYPE=text/html:Tickets are SOLD OUT.<br />\nPlease contact the Chamber if you would like to join a waitlist.<br />\n2023 Civitas Awards Reception
LOCATION:Tabby Place\, Downtown Beaufort
UID:e.1212.13417
SEQUENCE:3
DTSTAMP:20260424T062201Z
URL:https://business.beaufortchamber.org/events/details/civitas-awards-reception-13417
END:VEVENT

END:VCALENDAR
