BEGIN:VCALENDAR
VERSION:2.0
PRODID:-//ChamberMaster//Event Calendar 2.0//EN
METHOD:PUBLISH
X-PUBLISHED-TTL:P3D
REFRESH-INTERVAL:P3D
CALSCALE:GREGORIAN
BEGIN:VEVENT
DTSTART;VALUE=DATE:20080913
DTEND;VALUE=DATE:20080914
TRANSP:TRANSPARENT
X-MICROSOFT-CDO-ALLDAYEVENT:TRUE
SUMMARY:Coastal Conservation League & Marshview Farm's 'Fresh from the Fields'
DESCRIPTION:The day will begin with a tour of Marshview Farm and then move on to the Community Development facility behind Gullah Grub.  Richard Wilson of Bateaux will be the celebrity chef preparing local delicacies.  There will also be a short discussion on the value of local agriculture.  $25 for members\, $30 for guests.
X-ALT-DESC;FMTTYPE=text/html:The day will begin with a tour of Marshview Farm and then move on to the Community Development facility behind Gullah Grub.  Richard Wilson of Bateaux will be the celebrity chef preparing local delicacies.  There will also be a short discussion on the value of local agriculture.  $25 for members\, $30 for guests.
LOCATION:
UID:e.1212.2671
SEQUENCE:3
DTSTAMP:20260425T122355Z
URL:https://business.beaufortchamber.org/events/details/coastal-conservation-league-marshview-farm-s-fresh-from-the-fields-09-13-2008-2671
END:VEVENT

END:VCALENDAR
