BEGIN:VCALENDAR
VERSION:2.0
PRODID:-//ChamberMaster//Event Calendar 2.0//EN
METHOD:PUBLISH
X-PUBLISHED-TTL:P3D
REFRESH-INTERVAL:P3D
CALSCALE:GREGORIAN
BEGIN:VEVENT
DTSTART:20230818T123000Z
DTEND:20230818T133000Z
X-MICROSOFT-CDO-ALLDAYEVENT:FALSE
SUMMARY:Coffee with Colleagues hosted by Beaufort Town Center
DESCRIPTION:Join us for Coffee with Colleagues\, hosted by Beaufort Town Center! Network with Chamber members over breakfast and see the commercial and office spaces along Boundary Street
X-ALT-DESC;FMTTYPE=text/html:Join us for Coffee with Colleagues\, hosted by Beaufort Town Center! Network with Chamber members over breakfast and see the commercial and office spaces along Boundary Street
LOCATION:2015 Boundary Street
UID:e.1212.13415
SEQUENCE:3
DTSTAMP:20260424T101914Z
URL:https://business.beaufortchamber.org/events/details/coffee-with-colleagues-hosted-by-beaufort-town-center-13415
END:VEVENT

END:VCALENDAR
