BEGIN:VCALENDAR
VERSION:2.0
PRODID:-//ChamberMaster//Event Calendar 2.0//EN
METHOD:PUBLISH
X-PUBLISHED-TTL:P3D
REFRESH-INTERVAL:P3D
CALSCALE:GREGORIAN
BEGIN:VEVENT
DTSTART:20230127T133000Z
DTEND:20230127T143000Z
X-MICROSOFT-CDO-ALLDAYEVENT:FALSE
SUMMARY:Coffee with Colleagues hosted by Dominion Energy
DESCRIPTION:All Chamber members are invited to the January Coffee with Colleagues event! Hosted by Dominion Energy\, along with the EnergyWise Program and LED Lowcountry Lighting\, at Furniture Warehouse and Design Gallery.\n\n\n\nCome learn about all the opportunities they have to share with local businesses while enjoying breakfast and networking!
X-ALT-DESC;FMTTYPE=text/html:All Chamber members are invited to the January Coffee with Colleagues event! Hosted by Dominion Energy\, along with the EnergyWise Program and LED Lowcountry Lighting\, at Furniture Warehouse and Design Gallery.<br />\n<br />\nCome learn about all the opportunities they have to share with local businesses while enjoying breakfast and networking!
LOCATION:745 Robert Smalls Parkway FWDG
UID:e.1212.13337
SEQUENCE:3
DTSTAMP:20260424T192127Z
URL:https://business.beaufortchamber.org/events/details/coffee-with-colleagues-hosted-by-dominion-energy-13337
END:VEVENT

END:VCALENDAR
