BEGIN:VCALENDAR
VERSION:2.0
PRODID:-//ChamberMaster//Event Calendar 2.0//EN
METHOD:PUBLISH
X-PUBLISHED-TTL:P3D
REFRESH-INTERVAL:P3D
CALSCALE:GREGORIAN
BEGIN:VEVENT
DTSTART:20221104T123000Z
DTEND:20221104T133000Z
X-MICROSOFT-CDO-ALLDAYEVENT:FALSE
SUMMARY:Coffee with Colleagues hosted by Good Neighbor Clinic and BMH
DESCRIPTION:November's Coffee with Colleagues will be hosted by Good Neighbor Clinic and Beaufort Memorial Hospital at the Good Neighbor Clinic. Please register to join us for a great morning of networking over breakfast and see their facility and the BMH Mobile Wellness Unit.
X-ALT-DESC;FMTTYPE=text/html:November&#39\;s Coffee with Colleagues will be hosted by Good Neighbor Clinic and Beaufort Memorial Hospital at the Good Neighbor Clinic. Please register to join us for a great morning of networking over breakfast and see their facility and the BMH Mobile Wellness Unit.
LOCATION:974 Ribault Road Beaufort\, SC 29902
UID:e.1212.13313
SEQUENCE:3
DTSTAMP:20260424T221646Z
URL:https://business.beaufortchamber.org/events/details/coffee-with-colleagues-hosted-by-good-neighbor-clinic-and-bmh-13313
END:VEVENT

END:VCALENDAR
