BEGIN:VCALENDAR
VERSION:2.0
PRODID:-//ChamberMaster//Event Calendar 2.0//EN
METHOD:PUBLISH
X-PUBLISHED-TTL:P3D
REFRESH-INTERVAL:P3D
CALSCALE:GREGORIAN
BEGIN:VEVENT
DTSTART:20230406T123000Z
DTEND:20230406T133000Z
X-MICROSOFT-CDO-ALLDAYEVENT:FALSE
SUMMARY:Coffee with Colleagues hosted by Heartland
DESCRIPTION:Join us for a great breakfast networking event at the Chamber\, hosted by Heartland Payment Systems. Food\, connections\, and information sharing to squeeze in before Easter weekend and Spring Break!
X-ALT-DESC;FMTTYPE=text/html:Join us for a great breakfast networking event at the Chamber\, hosted by Heartland Payment Systems. Food\, connections\, and information sharing to squeeze in before Easter weekend and Spring Break!&nbsp\;
LOCATION:Beaufort Regional Chamber of Commerce 1106 Carteret Street
UID:e.1212.13375
SEQUENCE:3
DTSTAMP:20260424T152453Z
URL:https://business.beaufortchamber.org/events/details/coffee-with-colleagues-hosted-by-heartland-13375
END:VEVENT

END:VCALENDAR
