BEGIN:VCALENDAR
VERSION:2.0
PRODID:-//ChamberMaster//Event Calendar 2.0//EN
METHOD:PUBLISH
X-PUBLISHED-TTL:P3D
REFRESH-INTERVAL:P3D
CALSCALE:GREGORIAN
BEGIN:VEVENT
DTSTART:20250905T123000Z
DTEND:20250905T133000Z
X-MICROSOFT-CDO-ALLDAYEVENT:FALSE
SUMMARY:Coffee with Colleagues hosted by Lowcountry Legal Volunteers
DESCRIPTION:Join us for Coffee with Colleagues hosted by Lowcountry Legal Volunteers
X-ALT-DESC;FMTTYPE=text/html:Join us for Coffee with Colleagues hosted by Lowcountry Legal Volunteers
LOCATION:Lowcountry Outreach Center: 80 Lady's Island Drive\, Beaufort\, SC 29907
UID:e.1212.14723
SEQUENCE:3
DTSTAMP:20260424T063112Z
URL:https://business.beaufortchamber.org/events/details/coffee-with-colleagues-hosted-by-lowcountry-legal-volunteers-14723
END:VEVENT

END:VCALENDAR
