BEGIN:VCALENDAR
VERSION:2.0
PRODID:-//ChamberMaster//Event Calendar 2.0//EN
METHOD:PUBLISH
X-PUBLISHED-TTL:P3D
REFRESH-INTERVAL:P3D
CALSCALE:GREGORIAN
BEGIN:VEVENT
DTSTART:20230512T123000Z
DTEND:20230512T133000Z
X-MICROSOFT-CDO-ALLDAYEVENT:FALSE
SUMMARY:Coffee with Colleagues: Hosted by StoneWorks
DESCRIPTION:Monthly Coffee with Colleagues events are a great networking tool!\n\nJoin us at the manufacturing center for StoneWorks to learn about their countertop and stone facility and enjoy breakfast with fellow Chamber members.
X-ALT-DESC;FMTTYPE=text/html:Monthly Coffee with Colleagues events are a great networking tool!<br />\nJoin us at the manufacturing center for StoneWorks to learn about their countertop and stone facility and enjoy breakfast with fellow Chamber members.
LOCATION:779 Robert Smalls Parkway
UID:e.1212.13391
SEQUENCE:3
DTSTAMP:20260424T133209Z
URL:https://business.beaufortchamber.org/events/details/coffee-with-colleagues-hosted-by-stoneworks-13391
END:VEVENT

END:VCALENDAR
