BEGIN:VCALENDAR
VERSION:2.0
PRODID:-//ChamberMaster//Event Calendar 2.0//EN
METHOD:PUBLISH
X-PUBLISHED-TTL:P3D
REFRESH-INTERVAL:P3D
CALSCALE:GREGORIAN
BEGIN:VEVENT
DTSTART:20220805T123000Z
DTEND:20220805T133000Z
X-MICROSOFT-CDO-ALLDAYEVENT:FALSE
SUMMARY:Coffee with Colleagues hosted by The Retreat at Lady's Island
DESCRIPTION:Coffee with Colleagues hosted by The Retreat at Lady's Island\n\n\n\nMembers are invited to the August Coffee with Colleagues event with delicious treats and door prizes.
X-ALT-DESC;FMTTYPE=text/html:<strong><span style="color:black\;"><span style="font-family:verdana\,sans-serif\;"><span style="font-size:9.0pt\;">Coffee with Colleagues hosted by The Retreat at Lady&rsquo\;s Island</span></span></span></strong><br />\n<br />\n<span style="color:black\;"><span style="font-family:verdana\,sans-serif\;"><span style="font-size:9.0pt\;">Members are invited to the August Coffee with Colleagues event with delicious treats and door prizes.&nbsp\;</span></span></span>
LOCATION:9 Sunset Blvd\, Lady's Island
UID:e.1212.13278
SEQUENCE:3
DTSTAMP:20260425T022840Z
URL:https://business.beaufortchamber.org/events/details/coffee-with-colleagues-hosted-by-the-retreat-at-lady-s-island-13278
END:VEVENT

END:VCALENDAR
