BEGIN:VCALENDAR
VERSION:2.0
PRODID:-//ChamberMaster//Event Calendar 2.0//EN
METHOD:PUBLISH
X-PUBLISHED-TTL:P3D
REFRESH-INTERVAL:P3D
CALSCALE:GREGORIAN
BEGIN:VEVENT
DTSTART:20231006T123000Z
DTEND:20231006T133000Z
X-MICROSOFT-CDO-ALLDAYEVENT:FALSE
SUMMARY:Coffee with Colleagues hosted by WTOC
DESCRIPTION:Kick off the month of October with networking and breakfast at the Chamber office\, thanks to host WTOC!
X-ALT-DESC;FMTTYPE=text/html:Kick off the month of October with networking and breakfast at the Chamber office\, thanks to host WTOC!
LOCATION:1106 Carteret Street Beaufort Regional Chamber of Commerce
UID:e.1212.13424
SEQUENCE:3
DTSTAMP:20260424T050337Z
URL:https://business.beaufortchamber.org/events/details/coffee-with-colleagues-hosted-by-wtoc-13424
END:VEVENT

END:VCALENDAR
