BEGIN:VCALENDAR
VERSION:2.0
PRODID:-//ChamberMaster//Event Calendar 2.0//EN
METHOD:PUBLISH
X-PUBLISHED-TTL:P3D
REFRESH-INTERVAL:P3D
CALSCALE:GREGORIAN
BEGIN:VEVENT
DTSTART:20230210T143000Z
DTEND:20230210T153000Z
X-MICROSOFT-CDO-ALLDAYEVENT:FALSE
SUMMARY:Community Advancement Council
DESCRIPTION:Chamber members are invited to hear a presentation of the 2023 Public Policy agenda from Chamber President Ian Scott and a Statehouse Update from SC Chamber's Will Frierson
X-ALT-DESC;FMTTYPE=text/html:Chamber members are invited to hear a presentation of the 2023 Public Policy agenda from Chamber President Ian Scott and a Statehouse Update from SC Chamber&#39\;s Will Frierson
LOCATION:Zoom: https://us06web.zoom.us/j/86867560754 Meeting ID: 868 6756 0754
UID:e.1212.13355
SEQUENCE:3
DTSTAMP:20260424T180205Z
URL:https://business.beaufortchamber.org/events/details/community-advancement-council-13355
END:VEVENT

END:VCALENDAR
