BEGIN:VCALENDAR
VERSION:2.0
PRODID:-//ChamberMaster//Event Calendar 2.0//EN
METHOD:PUBLISH
X-PUBLISHED-TTL:P3D
REFRESH-INTERVAL:P3D
CALSCALE:GREGORIAN
BEGIN:VEVENT
DTSTART:20231027T130000Z
DTEND:20231027T140000Z
X-MICROSOFT-CDO-ALLDAYEVENT:FALSE
SUMMARY:Community Advancement Council
DESCRIPTION:Topic:  Local Elections & Referendums -- What to expect on the Ballot
X-ALT-DESC;FMTTYPE=text/html:Topic:&nbsp\; Local Elections &amp\; Referendums -- What to expect on the Ballot
LOCATION:Online via zoom: https://us06web.zoom.us/j/81630163381
UID:e.1212.13440
SEQUENCE:3
DTSTAMP:20260424T052321Z
URL:https://business.beaufortchamber.org/events/details/community-advancement-council-13440
END:VEVENT

END:VCALENDAR
