BEGIN:VCALENDAR
VERSION:2.0
PRODID:-//ChamberMaster//Event Calendar 2.0//EN
METHOD:PUBLISH
X-PUBLISHED-TTL:P3D
REFRESH-INTERVAL:P3D
CALSCALE:GREGORIAN
BEGIN:VEVENT
DTSTART:20221021T130000Z
DTEND:20221021T140000Z
X-MICROSOFT-CDO-ALLDAYEVENT:FALSE
SUMMARY:Community Advancement Council | Virtual Meeting
DESCRIPTION:Local business leaders meet quarterly session to converse about current initiatives\, community issues\, and business development in the Beaufort Region. \n\n\n\nSpecial Guests: \n\nBob Morgan from SC Chamber\n\n\n\nBluffton Chamber is co-host
X-ALT-DESC;FMTTYPE=text/html:Local business leaders meet quarterly session to converse about current initiatives\, community issues\, and business development in the Beaufort Region.&nbsp\;<br />\n<br />\nSpecial Guests:&nbsp\;<br />\nBob Morgan from SC Chamber<br />\n<br />\nBluffton Chamber is co-host<br />\n&nbsp\; &nbsp\; &nbsp\; &nbsp\;
LOCATION:Join Zoom Meeting http://us02web.zoom.us/j/81235389722 Meeting ID: 812 3538 9722 Passcode: 952583
UID:e.1212.13316
SEQUENCE:3
DTSTAMP:20260424T232648Z
URL:https://business.beaufortchamber.org/events/details/community-advancement-council-virtual-meeting-13316
END:VEVENT

END:VCALENDAR
