BEGIN:VCALENDAR
VERSION:2.0
PRODID:-//ChamberMaster//Event Calendar 2.0//EN
METHOD:PUBLISH
X-PUBLISHED-TTL:P3D
REFRESH-INTERVAL:P3D
CALSCALE:GREGORIAN
BEGIN:VEVENT
DTSTART:20230519T140000Z
DTEND:20230519T150000Z
X-MICROSOFT-CDO-ALLDAYEVENT:FALSE
SUMMARY:Community Advancement Council - Zoom Meeting
DESCRIPTION:Hear from Government Relations experts from around the state the day after the Legislative Session closes. Listen along with the Zoom meeting to be "in the know" and ask your own questions too.
X-ALT-DESC;FMTTYPE=text/html:<p>Hear from Government&nbsp\;Relations experts from around the state the day after the Legislative Session closes. Listen along with the&nbsp\;Zoom meeting&nbsp\;to be &quot\;in the know&quot\; and ask your own questions too.&nbsp\;</p>\n
LOCATION:Invite Link Invite Link https://us06web.zoom.us/j/82498856022 https://us06web.zoom.us/j/82498856022
UID:e.1212.13394
SEQUENCE:3
DTSTAMP:20260424T133600Z
URL:https://business.beaufortchamber.org/events/details/community-advancement-council-zoom-meeting-13394
END:VEVENT

END:VCALENDAR
