BEGIN:VCALENDAR
VERSION:2.0
PRODID:-//ChamberMaster//Event Calendar 2.0//EN
METHOD:PUBLISH
X-PUBLISHED-TTL:P3D
REFRESH-INTERVAL:P3D
CALSCALE:GREGORIAN
BEGIN:VEVENT
DTSTART;VALUE=DATE:20080131
DTEND;VALUE=DATE:20080201
TRANSP:TRANSPARENT
X-MICROSOFT-CDO-ALLDAYEVENT:TRUE
SUMMARY:Community Arts Night
DESCRIPTION:Fun and informative event that includes many opportunities for the community to get involved in the arts.  Parents meet the artists who work at SHES and take part in hands-on activities\; free spaghetti dinner\; PTO session providing important updates\; Community Cultural Heritage Scholar Anita Singleton-Prather will speak about the Gullah Curriculum\; students will present a special dance performance\; event is FREE\; whole family welcome\; supervised childcare provided\; call to make dinner reservations
X-ALT-DESC;FMTTYPE=text/html:Fun and informative event that includes many opportunities for the community to get involved in the arts.  Parents meet the artists who work at SHES and take part in hands-on activities\; free spaghetti dinner\; PTO session providing important updates\; Community Cultural Heritage Scholar Anita Singleton-Prather will speak about the Gullah Curriculum\; students will present a special dance performance\; event is <b>FREE</b>\; whole family welcome\; supervised childcare provided\; call to make dinner reservations
LOCATION:St. Helena Island
UID:e.1212.2149
SEQUENCE:3
DTSTAMP:20260424T234035Z
URL:https://business.beaufortchamber.org/events/details/community-arts-night-01-31-2008-2149
END:VEVENT

END:VCALENDAR
