BEGIN:VCALENDAR
VERSION:2.0
PRODID:-//ChamberMaster//Event Calendar 2.0//EN
METHOD:PUBLISH
X-PUBLISHED-TTL:P3D
REFRESH-INTERVAL:P3D
CALSCALE:GREGORIAN
BEGIN:VEVENT
DTSTART;VALUE=DATE:20080921
DTEND;VALUE=DATE:20080922
TRANSP:TRANSPARENT
X-MICROSOFT-CDO-ALLDAYEVENT:TRUE
SUMMARY:Community Sing
DESCRIPTION:Held at the Frissell  Community House at Penn Center.
X-ALT-DESC;FMTTYPE=text/html:Held at the Frissell  Community House at Penn Center.
LOCATION:St. Helena Island
UID:e.1212.2081
SEQUENCE:3
DTSTAMP:20260425T133440Z
URL:https://business.beaufortchamber.org/events/details/community-sing-09-21-2008-2081
END:VEVENT

END:VCALENDAR
