BEGIN:VCALENDAR
VERSION:2.0
PRODID:-//ChamberMaster//Event Calendar 2.0//EN
METHOD:PUBLISH
X-PUBLISHED-TTL:P3D
REFRESH-INTERVAL:P3D
CALSCALE:GREGORIAN
BEGIN:VEVENT
DTSTART;VALUE=DATE:20071231
DTEND;VALUE=DATE:20080101
TRANSP:TRANSPARENT
X-MICROSOFT-CDO-ALLDAYEVENT:TRUE
SUMMARY:Community Wide New Year's Eve Service
DESCRIPTION:Sponsored by the Operation Good Neighbor Churches
X-ALT-DESC;FMTTYPE=text/html:Sponsored by the Operation Good Neighbor Churches
LOCATION:
UID:e.1212.1376
SEQUENCE:3
DTSTAMP:20260424T222349Z
URL:https://business.beaufortchamber.org/events/details/community-wide-new-year-s-eve-service-12-31-2007-1376
END:VEVENT

END:VCALENDAR
