BEGIN:VCALENDAR
VERSION:2.0
PRODID:-//ChamberMaster//Event Calendar 2.0//EN
METHOD:PUBLISH
X-PUBLISHED-TTL:P3D
REFRESH-INTERVAL:P3D
CALSCALE:GREGORIAN
BEGIN:VEVENT
DTSTART;VALUE=DATE:20080307
DTEND;VALUE=DATE:20080308
TRANSP:TRANSPARENT
X-MICROSOFT-CDO-ALLDAYEVENT:TRUE
SUMMARY:Concert
DESCRIPTION:Russian Bears\, Tachaikovsky:  Symphony #6\, "Pathetique"\, Borodin:  Pollovetsian Dances.  Tickets may be\npurchased at the Beaufort Regional Chamber of Commerce.
X-ALT-DESC;FMTTYPE=text/html:Russian Bears\, Tachaikovsky:  Symphony #6\, "Pathetique"\, Borodin:  Pollovetsian Dances.  Tickets may be\npurchased at the Beaufort Regional Chamber of Commerce.
LOCATION:
UID:e.1212.1700
SEQUENCE:3
DTSTAMP:20260425T023903Z
URL:https://business.beaufortchamber.org/events/details/concert-03-07-2008-1700
END:VEVENT

END:VCALENDAR
