BEGIN:VCALENDAR
VERSION:2.0
PRODID:-//ChamberMaster//Event Calendar 2.0//EN
METHOD:PUBLISH
X-PUBLISHED-TTL:P3D
REFRESH-INTERVAL:P3D
CALSCALE:GREGORIAN
BEGIN:VEVENT
DTSTART;VALUE=DATE:20071005
DTEND;VALUE=DATE:20071006
TRANSP:TRANSPARENT
X-MICROSOFT-CDO-ALLDAYEVENT:TRUE
SUMMARY:Concert
DESCRIPTION:Band on Paris Avenue
X-ALT-DESC;FMTTYPE=text/html:Band on Paris Avenue
LOCATION:Port Royal
UID:e.1212.1592
SEQUENCE:3
DTSTAMP:20260424T195751Z
URL:https://business.beaufortchamber.org/events/details/concert-10-05-2007-1592
END:VEVENT

END:VCALENDAR
