BEGIN:VCALENDAR
VERSION:2.0
PRODID:-//ChamberMaster//Event Calendar 2.0//EN
METHOD:PUBLISH
X-PUBLISHED-TTL:P3D
REFRESH-INTERVAL:P3D
CALSCALE:GREGORIAN
BEGIN:VEVENT
DTSTART;VALUE=DATE:20071207
DTEND;VALUE=DATE:20071208
TRANSP:TRANSPARENT
X-MICROSOFT-CDO-ALLDAYEVENT:TRUE
SUMMARY:Concert
DESCRIPTION:From Sacred to Swing:  Holiday Celebration Bach\, Handel\, with soprano soloist Mary Hubbell.  Holiday\nfavorites.  Tickets may be purchased at the Beaufort Regional Chamber of Commerce.
X-ALT-DESC;FMTTYPE=text/html:From Sacred to Swing:  Holiday Celebration Bach\, Handel\, with soprano soloist Mary Hubbell.  Holiday\nfavorites.  Tickets may be purchased at the Beaufort Regional Chamber of Commerce.
LOCATION:
UID:e.1212.1698
SEQUENCE:3
DTSTAMP:20260424T221336Z
URL:https://business.beaufortchamber.org/events/details/concert-12-07-2007-1698
END:VEVENT

END:VCALENDAR
