BEGIN:VCALENDAR
VERSION:2.0
PRODID:-//ChamberMaster//Event Calendar 2.0//EN
METHOD:PUBLISH
X-PUBLISHED-TTL:P3D
REFRESH-INTERVAL:P3D
CALSCALE:GREGORIAN
BEGIN:VEVENT
DTSTART;VALUE=DATE:20080327
DTEND;VALUE=DATE:20080328
TRANSP:TRANSPARENT
X-MICROSOFT-CDO-ALLDAYEVENT:TRUE
SUMMARY:Cool John Ferguson
DESCRIPTION:Local and regional blues live!\n\nAt Brewer's Brewing Co.\, 2121 Boundary Street - Beaufort Town Center
X-ALT-DESC;FMTTYPE=text/html:Local and regional blues live!<BR><BR>At Brewer's Brewing Co.\, 2121 Boundary Street - Beaufort Town Center
LOCATION:Beaufort
UID:e.1212.2348
SEQUENCE:3
DTSTAMP:20260425T024545Z
URL:https://business.beaufortchamber.org/events/details/cool-john-ferguson-03-27-2008-2348
END:VEVENT

END:VCALENDAR
